BEGIN:VCALENDAR
VERSION:2.0
PRODID:-//Cultura UANL - ECPv6.15.20//NONSGML v1.0//EN
CALSCALE:GREGORIAN
METHOD:PUBLISH
X-WR-CALNAME:Cultura UANL
X-ORIGINAL-URL:https://cultura.uanl.mx
X-WR-CALDESC:Eventos para Cultura UANL
REFRESH-INTERVAL;VALUE=DURATION:PT1H
X-Robots-Tag:noindex
X-PUBLISHED-TTL:PT1H
BEGIN:VTIMEZONE
TZID:America/Mexico_City
BEGIN:STANDARD
TZOFFSETFROM:-0600
TZOFFSETTO:-0600
TZNAME:CST
DTSTART:20250101T000000
END:STANDARD
END:VTIMEZONE
BEGIN:VEVENT
DTSTART;TZID=America/Mexico_City:20260305T160000
DTEND;TZID=America/Mexico_City:20260426T200000
DTSTAMP:20260425T184503
CREATED:20260225T171157Z
LAST-MODIFIED:20260225T213943Z
UID:7102-1772726400-1777233600@cultura.uanl.mx
SUMMARY:Séptimo Aniversario CEIIDA
DESCRIPTION:Centro de Investigación\, Innovación y Desarrollo de las Artes UANL \nSéptimo Aniversario\n  \n📆 Del 5 de marzo al 26 de abril  \nProgramación \n  \n5 de marzo / 17:00 horas \nConferencia magistral \n Cómo pensar y analizar el teatro: historia\, crítica y teoría \nEl teatro\, arte de doble naturaleza\, es literatura y escena a la vez. De esta dualidad han surgido\, a lo largo de los siglos\, posturas encontradas entre textocéntricos y escenocéntricos.\nEsta conferencia propone revisar ese debate desde una mirada contemporánea y reflexionar sobre cómo el texto dramático se transforma en acontecimiento escénico.\n \nImparte: Elvira Popova \n📍Lugar: Auditorio CEIIDA \nDirigido a estudiantes\, investigadores y profesionales de las artes escénicas. \n\n  \n6 de marzo / 17:00 horas \nConferencia magistral \nUna aproximación a la cultura del trabajo femenino en Nuevo león \nImparte: Haydee Cantú \n📍Lugar: Auditorio CEIIDA \n\n  \n9-13 de marzo / 16:00 – 19:00 horas \nTaller de performance \nDel Motor a la Evidencia II  \n¿De qué trata? Revisaremos contextos\, discutiremos ideas y analizaremos las diversas formas de accionar el cuerpo hoy en día. \n\nImparten: Renard y Alejandro Zertuche.\n\n📍 Modalidad: Presencial. Lugar: Auditorio CEIIDA \nCupo máximo: 15 personas. La selección estará a cargo de los artistas docentes \nDuración: Lunes a viernes (5 días) \nManda tu carta de interés y semblanza a  motorevidencia@gmail.com \nActividad gratuita. \n\n  \n12 de marzo / 20:00 horas \n🎙️ Podcast Escénico: EL PILOTO  \nSTUDIO G23 presenta su capítulo piloto: KITCHCOCK\nPropuesta escénica-sonora que combina el formato de podcast de ficción con el lenguaje del radioteatro en un espectáculo en vivo con registro audiovisual.\nUn homenaje al cine\, a las formas de contar historias y a los artistas. \nDirección: Bryan Jair \n📍Lugar: Auditorio CEIIDA \n\n  \n18 de marzo / 20:00 horas \n🎶 Concierto de música experimental  \nLo sensible interrumpido  \nConcierto de Manuel Rocha Iturbide. Visuales de Ruben Gutiérrez \n📍Lugar: Segunda Planta CEIIDA \n\n  \n23 de abril  \n📸 Exposición fotográfica  \nAlan Flores  \nDel grano al algoritmo. La evolución del retrato \n📍Lugar: Segunda Planta CEIIDA \n  \nConsulta más información en ceiida.uanl.mx
URL:https://cultura.uanl.mx/actividad/septimo-aniversario-ceiida/
LOCATION:Centro de Investigación\, Innovación y Desarrollo de las Artes UANL.\, Praga S/N\, CAMPUS MEDEROS\, 64930 Monterrey\, N.L.\, Monterrey\, Nuevo León\, 64930\, Mexico
CATEGORIES:Especial
ATTACH;FMTTYPE=image/png:https://cultura.uanl.mx/wp-content/uploads/2026/02/Captura-de-Pantalla-2026-02-25-a-las-10.48.12.png
END:VEVENT
END:VCALENDAR