BEGIN:VCALENDAR
VERSION:2.0
PRODID:-//Cultura UANL - ECPv6.15.20//NONSGML v1.0//EN
CALSCALE:GREGORIAN
METHOD:PUBLISH
X-WR-CALNAME:Cultura UANL
X-ORIGINAL-URL:https://cultura.uanl.mx
X-WR-CALDESC:Eventos para Cultura UANL
REFRESH-INTERVAL;VALUE=DURATION:PT1H
X-Robots-Tag:noindex
X-PUBLISHED-TTL:PT1H
BEGIN:VTIMEZONE
TZID:America/Mexico_City
BEGIN:STANDARD
TZOFFSETFROM:-0600
TZOFFSETTO:-0600
TZNAME:CST
DTSTART:20240101T000000
END:STANDARD
END:VTIMEZONE
BEGIN:VEVENT
DTSTART;TZID=America/Mexico_City:20250930T190000
DTEND;TZID=America/Mexico_City:20250930T210000
DTSTAMP:20260425T181906
CREATED:20250918T175913Z
LAST-MODIFIED:20250918T175913Z
UID:6158-1759258800-1759266000@cultura.uanl.mx
SUMMARY:Película: "Gizmo"
DESCRIPTION:Proyección de largometraje\n“Gizmo”\n30 de septiembre a las 19:00 h en la Sala Fósforo del Colegio Civil Centro Cultural Universitario.  \nEntrada libre.  \n  \nUna película de Everardo Felipe y Eduardo Padilla  \nComedia negra absurda disfrazada de procedimiento judicial en la que la policía pierde metódicamente tiempo y recursos\, mira para otro lado y nunca consigue hacer nada. La desaparición de una joven dentro de un parque natural y la extraña muerte de un jefe de policía se unen y comienzan a girar en torno a una trama paranoica y un misterio posiblemente sobrenatural. \nPaís: México\nDirección: Felipe; Everardo\nGuión: Padilla; Eduardo\, Felipe; Everardo\nProducción: Smart; Paul\nFotografía: García; Carlos Gerardo\nSonido: Ayala; Jonathan\nMúsica: Piotrowicz; Robert\nReparto:Herbert; Julián\, González; Bianca\, Izaguirre; Ramón\, Portela; Gibrán\, Guzmán; Ulises\, Marín Cienfuegos; Verónica\nDirección de Arte: Durán; Carolina
URL:https://cultura.uanl.mx/actividad/pelicula-gizmo/
LOCATION:Sala Fósforo del Colegio Civil Centro Cultural Universitario\, Colegio Civil s/n\, entre 5 de Mayo y Washington\, Monterrey\, Nuevo León\, C.P. 64000\, Monterrey\, Nuevo León\, Mexico
CATEGORIES:Cine
ATTACH;FMTTYPE=image/jpeg:https://cultura.uanl.mx/wp-content/uploads/2025/09/prensa_ca21408a6b8c1ba9c90a147d1ee09972bba66553.jpg
END:VEVENT
END:VCALENDAR