BEGIN:VCALENDAR
VERSION:2.0
PRODID:-//Cultura UANL - ECPv6.15.20//NONSGML v1.0//EN
CALSCALE:GREGORIAN
METHOD:PUBLISH
X-WR-CALNAME:Cultura UANL
X-ORIGINAL-URL:https://cultura.uanl.mx
X-WR-CALDESC:Eventos para Cultura UANL
REFRESH-INTERVAL;VALUE=DURATION:PT1H
X-Robots-Tag:noindex
X-PUBLISHED-TTL:PT1H
BEGIN:VTIMEZONE
TZID:America/Mexico_City
BEGIN:STANDARD
TZOFFSETFROM:-0600
TZOFFSETTO:-0600
TZNAME:CST
DTSTART:20240101T000000
END:STANDARD
END:VTIMEZONE
BEGIN:VEVENT
DTSTART;TZID=America/Mexico_City:20250521T200000
DTEND;TZID=America/Mexico_City:20250521T210000
DTSTAMP:20260425T184716
CREATED:20250516T210544Z
LAST-MODIFIED:20250520T165457Z
UID:4747-1747857600-1747861200@cultura.uanl.mx
SUMMARY:Concierto “Nostalgia”
DESCRIPTION:Concierto “Nostalgia”. Recital para violín y piano\nSpencer Arvin Ekenes\, violín; Elda Nelly Treviño\, piano \nCooperación: $50 pesos público en general; entrada libre con previo registro en cultura.uanl.mx para la comunidad universitaria con credencial (docentes\, estudiantes\, jubilados y trabajadores de la UANL). \nDescarga el programa de mano aquí.
URL:https://cultura.uanl.mx/actividad/concierto-nostalgia/
LOCATION:Aula Magna Fray Servando Teresa de Mier del Colegio Civil CCU\, Calle Colegio Civil s/n\, Centro\, Monterrey\, Nuevo León\, 64000\, Mexico
CATEGORIES:Música
ATTACH;FMTTYPE=image/png:https://cultura.uanl.mx/wp-content/uploads/2025/05/Diseno-sin-titulo-29.png
END:VEVENT
END:VCALENDAR